BEGIN:VCALENDAR
VERSION:2.0
PRODID:SchoolNow
CALSCALE:GREGORIAN
BEGIN:VEVENT
UID:9149da52-0e92-11f1-94ba-029d9a8f2b4b
DTSTAMP:20260424T160549Z
SUMMARY:DLP Field Trip (4th-6th)
URL;VALUE=URI:https://www.dg58.org/hl/calendar/8862450/dlp-field-trip-4th-6
 th
DTSTART:20260311T133500Z
DTEND:20260311T160000Z
END:VEVENT
END:VCALENDAR
