BEGIN:VCALENDAR
VERSION:2.0
PRODID:SchoolNow
CALSCALE:GREGORIAN
BEGIN:VEVENT
UID:a5be2e96-0cfa-11f1-b33e-0a58a9feac02
DTSTAMP:20260424T160549Z
SUMMARY:4th Grade Field Trip
LOCATION:Brookfield Zoo\, 8400 31st St\, Brookfield\, IL 60513\, USA
URL;VALUE=URI:https://www.dg58.org/hl/calendar/8859126/4th-grade-field-trip
DTSTART:20260521T143000Z
DTEND:20260521T193000Z
END:VEVENT
END:VCALENDAR
