BEGIN:VCALENDAR
VERSION:2.0
PRODID:SchoolNow
CALSCALE:GREGORIAN
BEGIN:VEVENT
UID:a5be2a68-0cfa-11f1-9cf4-0a58a9feac02
DTSTAMP:20260424T160549Z
SUMMARY:1st gr. Lyman Woods Field Trip
URL;VALUE=URI:https://www.dg58.org/hl/calendar/8859125/1st-gr-lyman-woods-f
 ield-trip
DTSTART:20260506T144000Z
DTEND:20260506T194500Z
END:VEVENT
END:VCALENDAR
