BEGIN:VCALENDAR
VERSION:2.0
PRODID:SchoolNow
CALSCALE:GREGORIAN
BEGIN:VEVENT
UID:a5be2888-0cfa-11f1-b1af-0a58a9feac02
DTSTAMP:20260424T160549Z
SUMMARY:K-2 Field Trip
LOCATION:Classic Cinemas Tivoli Theatre\, 5021 Highland Ave\, Downers Grove
 \, IL 60515\, USA
URL;VALUE=URI:https://www.dg58.org/hl/calendar/8859124/k-2-field-trip
DTSTART:20260513T143000Z
DTEND:20260513T163000Z
END:VEVENT
END:VCALENDAR
