BEGIN:VCALENDAR
VERSION:2.0
PRODID:SchoolNow
CALSCALE:GREGORIAN
BEGIN:VEVENT
UID:a5be24dc-0cfa-11f1-832d-0a58a9feac02
DTSTAMP:20260424T160549Z
SUMMARY:Kindergarten Field Trip
LOCATION:Brookfield Zoo\, 8400 31st St\, Brookfield\, IL 60513\, USA
URL;VALUE=URI:https://www.dg58.org/hl/calendar/8859123/kindergarten-field-t
 rip
DTSTART:20260528T143000Z
DTEND:20260528T190000Z
END:VEVENT
END:VCALENDAR
