BEGIN:VCALENDAR
VERSION:2.0
PRODID:SchoolNow
CALSCALE:GREGORIAN
BEGIN:VEVENT
UID:4609932e-00a1-11f1-8d4f-0a58a9feac02
DTSTAMP:20260424T160549Z
SUMMARY:6th Grade Covenant Harbor  Field Trip
URL;VALUE=URI:https://www.dg58.org/hl/calendar/8848240/6th-grade-covenant-h
 arbor-field-trip
DTSTART:20260429T130000Z
DTEND:20260430T000000Z
END:VEVENT
END:VCALENDAR
