BEGIN:VCALENDAR
VERSION:2.0
PRODID:SchoolNow
CALSCALE:GREGORIAN
BEGIN:VEVENT
UID:f70be6f2-f315-11f0-afd5-0afff86b92a1
DTSTAMP:20260424T160549Z
SUMMARY:Kindergarten Round Up
URL;VALUE=URI:https://www.dg58.org/hl/calendar/8837225/kindergarten-round-u
 p
DTSTART:20260318T230000Z
DTEND:20260319T000000Z
END:VEVENT
END:VCALENDAR
