BEGIN:VCALENDAR
VERSION:2.0
PRODID:SchoolNow
CALSCALE:GREGORIAN
BEGIN:VEVENT
UID:176f19de-f0b2-11f0-be40-0a58a9feac02
DTSTAMP:20260424T160549Z
SUMMARY:Spanish Club - LRC/Lab
URL;VALUE=URI:https://www.dg58.org/hl/calendar/8835572/spanish-club-lrc-lab
DTSTART:20260504T190000Z
DTEND:20260504T200000Z
END:VEVENT
END:VCALENDAR
