BEGIN:VCALENDAR
VERSION:2.0
PRODID:SchoolNow
CALSCALE:GREGORIAN
BEGIN:VEVENT
UID:176f17fe-f0b2-11f0-adab-0a58a9feac02
DTSTAMP:20260424T160549Z
SUMMARY:Spanish Club - LRC/Lab
URL;VALUE=URI:https://www.dg58.org/hl/calendar/8835570/spanish-club-lrc-lab
DTSTART:20260420T190000Z
DTEND:20260420T200000Z
END:VEVENT
END:VCALENDAR
