BEGIN:VCALENDAR
VERSION:2.0
PRODID:SchoolNow
CALSCALE:GREGORIAN
BEGIN:VEVENT
UID:176f161e-f0b2-11f0-b5cb-0a58a9feac02
DTSTAMP:20260424T100046Z
SUMMARY:Spanish Club - LRC/Lab
URL;VALUE=URI:https://www.dg58.org/hl/calendar/8835568/spanish-club-lrc-lab
DTSTART:20260406T190000Z
DTEND:20260406T200000Z
END:VEVENT
END:VCALENDAR
