BEGIN:VCALENDAR
VERSION:2.0
PRODID:SchoolNow
CALSCALE:GREGORIAN
BEGIN:VEVENT
UID:176f0dfe-f0b2-11f0-9caf-0a58a9feac02
DTSTAMP:20260424T160549Z
SUMMARY:Spanish Club - LRC/Lab
URL;VALUE=URI:https://www.dg58.org/hl/calendar/8835563/spanish-club-lrc-lab
DTSTART:20260223T200000Z
DTEND:20260223T210000Z
END:VEVENT
END:VCALENDAR
