BEGIN:VCALENDAR
VERSION:2.0
PRODID:SchoolNow
CALSCALE:GREGORIAN
BEGIN:VEVENT
UID:5bf4821e-d7cc-11f0-bbad-0226a1d915f5
DTSTAMP:20260424T160549Z
SUMMARY:Art & Tech Club - Activity Room
URL;VALUE=URI:https://www.dg58.org/hl/calendar/8823240/art-tech-club-activi
 ty-room
DTSTART:20260217T210000Z
DTEND:20260217T214000Z
END:VEVENT
END:VCALENDAR
