BEGIN:VCALENDAR
VERSION:2.0
PRODID:SchoolNow
CALSCALE:GREGORIAN
BEGIN:VEVENT
UID:5bf47df0-d7cc-11f0-9531-0226a1d915f5
DTSTAMP:20260424T160549Z
SUMMARY:Art & Tech Club - Activity Room
URL;VALUE=URI:https://www.dg58.org/hl/calendar/8823238/art-tech-club-activi
 ty-room
DTSTART:20260224T210000Z
DTEND:20260224T214000Z
END:VEVENT
END:VCALENDAR
