BEGIN:VCALENDAR
VERSION:2.0
PRODID:SchoolNow
CALSCALE:GREGORIAN
BEGIN:VEVENT
UID:873f23a4-d469-11f0-9c63-028e1d3473d3
DTSTAMP:20260424T160549Z
SUMMARY:Bricks 4 Kidz - Lego ROBOTICS
URL;VALUE=URI:https://www.dg58.org/hl/calendar/8819982/bricks-4-kidz-lego-r
 obotics
DTSTART:20260108T210000Z
DTEND:20260108T220000Z
END:VEVENT
END:VCALENDAR
