BEGIN:VCALENDAR
VERSION:2.0
PRODID:SchoolNow
CALSCALE:GREGORIAN
BEGIN:VEVENT
UID:0ba71242-ca41-11f0-8f85-0e831594ee61
DTSTAMP:20260424T160549Z
SUMMARY:Yearbook Club - Week A
URL;VALUE=URI:https://www.dg58.org/hl/calendar/8809789/yearbook-club-week-a
DTSTART:20260115T210000Z
DTEND:20260115T214000Z
END:VEVENT
END:VCALENDAR
