BEGIN:VCALENDAR
VERSION:2.0
PRODID:SchoolNow
CALSCALE:GREGORIAN
BEGIN:VEVENT
UID:0ba71058-ca41-11f0-b9d2-0e831594ee61
DTSTAMP:20260424T160549Z
SUMMARY:Yearbook Club - Week B
URL;VALUE=URI:https://www.dg58.org/hl/calendar/8809788/yearbook-club-week-b
DTSTART:20260226T210000Z
DTEND:20260226T214000Z
END:VEVENT
END:VCALENDAR
