BEGIN:VCALENDAR
VERSION:2.0
PRODID:SchoolNow
CALSCALE:GREGORIAN
BEGIN:VEVENT
UID:0ba70ef0-ca41-11f0-b218-0e831594ee61
DTSTAMP:20260424T160549Z
SUMMARY:Yearbook Club - Week B
URL;VALUE=URI:https://www.dg58.org/hl/calendar/8809787/yearbook-club-week-b
DTSTART:20260319T200000Z
DTEND:20260319T204000Z
END:VEVENT
END:VCALENDAR
