BEGIN:VCALENDAR
VERSION:2.0
PRODID:SchoolNow
CALSCALE:GREGORIAN
BEGIN:VEVENT
UID:0ba70b08-ca41-11f0-85fa-0e831594ee61
DTSTAMP:20260424T160549Z
SUMMARY:Yearbook Club - Week A
URL;VALUE=URI:https://www.dg58.org/hl/calendar/8809786/yearbook-club-week-a
DTSTART:20260416T200000Z
DTEND:20260416T204000Z
END:VEVENT
END:VCALENDAR
