BEGIN:VCALENDAR
VERSION:2.0
PRODID:SchoolNow
CALSCALE:GREGORIAN
BEGIN:VEVENT
UID:49400644-c579-11f0-a161-0ef0a6f6ff45
DTSTAMP:20260424T160549Z
SUMMARY:4th Grade Field Trip
LOCATION:Isle a la Cache Preserve\, 501 E Romeo Rd\, Romeoville\, IL 60446\
 , USA
URL;VALUE=URI:https://www.dg58.org/hl/calendar/8803858/4th-grade-field-trip
DTSTART:20260528T143000Z
DTEND:20260528T191500Z
END:VEVENT
END:VCALENDAR
