BEGIN:VCALENDAR
VERSION:2.0
PRODID:SchoolNow
CALSCALE:GREGORIAN
BEGIN:VEVENT
UID:5b44e87a-c414-11f0-8c54-0a58a9feac02
DTSTAMP:20260424T100046Z
SUMMARY:BAM - Practice and Final Performance in GYM (4:30 perf)
URL;VALUE=URI:https://www.dg58.org/hl/calendar/8800545/bam-practice-and-fin
 al-performance-in-gym-4-30-perf
DTSTART:20260430T200000Z
DTEND:20260430T210000Z
END:VEVENT
END:VCALENDAR
