BEGIN:VCALENDAR
VERSION:2.0
PRODID:SchoolNow
CALSCALE:GREGORIAN
BEGIN:VEVENT
UID:5b44e5d2-c414-11f0-b150-0a58a9feac02
DTSTAMP:20260424T100046Z
SUMMARY:BAM - Rm 6
URL;VALUE=URI:https://www.dg58.org/hl/calendar/8800541/bam-rm-6
DTSTART:20260409T200000Z
DTEND:20260409T210000Z
END:VEVENT
END:VCALENDAR
