BEGIN:VCALENDAR
VERSION:2.0
PRODID:SchoolNow
CALSCALE:GREGORIAN
BEGIN:VEVENT
UID:5b44e1ea-c414-11f0-a18f-0a58a9feac02
DTSTAMP:20260424T160549Z
SUMMARY:BAM - Rm 6
URL;VALUE=URI:https://www.dg58.org/hl/calendar/8800537/bam-rm-6
DTSTART:20260305T210000Z
DTEND:20260305T220000Z
END:VEVENT
END:VCALENDAR
