BEGIN:VCALENDAR
VERSION:2.0
PRODID:SchoolNow
CALSCALE:GREGORIAN
BEGIN:VEVENT
UID:5b44dcae-c414-11f0-906a-0a58a9feac02
DTSTAMP:20260424T160549Z
SUMMARY:BAM - Rm 6
URL;VALUE=URI:https://www.dg58.org/hl/calendar/8800535/bam-rm-6
DTSTART:20260219T210000Z
DTEND:20260219T220000Z
END:VEVENT
END:VCALENDAR
