BEGIN:VCALENDAR
VERSION:2.0
PRODID:SchoolNow
CALSCALE:GREGORIAN
BEGIN:VEVENT
UID:e2244f5e-b9b8-11f0-9322-0a58a9feac02
DTSTAMP:20260424T100045Z
SUMMARY:2nd Grade DG History Tour
URL;VALUE=URI:https://www.dg58.org/hl/calendar/8777073/2nd-grade-dg-history
 -tour
DTSTART:20260428T134500Z
DTEND:20260428T181500Z
END:VEVENT
END:VCALENDAR
