BEGIN:VCALENDAR
VERSION:2.0
PRODID:SchoolNow
CALSCALE:GREGORIAN
BEGIN:VEVENT
UID:6eecf512-aec4-11f0-94e1-0afffc2bbfe3
DTSTAMP:20260424T160549Z
SUMMARY:Art Club in Activity Room
URL;VALUE=URI:https://www.dg58.org/hl/calendar/8740293/art-club-in-activity
 -room
DTSTART:20260316T191500Z
DTEND:20260316T201500Z
END:VEVENT
END:VCALENDAR
