BEGIN:VCALENDAR
VERSION:2.0
PRODID:SchoolNow
CALSCALE:GREGORIAN
BEGIN:VEVENT
UID:6eecf418-aec4-11f0-84d1-0afffc2bbfe3
DTSTAMP:20260424T160549Z
SUMMARY:Art Club in Activity Room
URL;VALUE=URI:https://www.dg58.org/hl/calendar/8740292/art-club-in-activity
 -room
DTSTART:20260309T191500Z
DTEND:20260309T201500Z
END:VEVENT
END:VCALENDAR
