BEGIN:VCALENDAR
VERSION:2.0
PRODID:SchoolNow
CALSCALE:GREGORIAN
BEGIN:VEVENT
UID:6eecf314-aec4-11f0-add3-0afffc2bbfe3
DTSTAMP:20260424T160549Z
SUMMARY:Art Club in Activity Room
URL;VALUE=URI:https://www.dg58.org/hl/calendar/8740291/art-club-in-activity
 -room
DTSTART:20260302T201500Z
DTEND:20260302T211500Z
END:VEVENT
END:VCALENDAR
