BEGIN:VCALENDAR
VERSION:2.0
PRODID:SchoolNow
CALSCALE:GREGORIAN
BEGIN:VEVENT
UID:6eeceeaa-aec4-11f0-b503-0afffc2bbfe3
DTSTAMP:20260424T160549Z
SUMMARY:Art Club in Activity Room
URL;VALUE=URI:https://www.dg58.org/hl/calendar/8740287/art-club-in-activity
 -room
DTSTART:20260126T201500Z
DTEND:20260126T211500Z
END:VEVENT
END:VCALENDAR
