BEGIN:VCALENDAR
VERSION:2.0
PRODID:SchoolNow
CALSCALE:GREGORIAN
BEGIN:VEVENT
UID:7158ca8e-ae91-11f0-b4a2-0a58a9feac02
DTSTAMP:20260424T160549Z
SUMMARY:5th Grade Intramurals
URL;VALUE=URI:https://www.dg58.org/hl/calendar/8738954/5th-grade-intramural
 s
DTSTART:20260319T200000Z
DTEND:20260319T204500Z
END:VEVENT
END:VCALENDAR
