BEGIN:VCALENDAR
VERSION:2.0
PRODID:SchoolNow
CALSCALE:GREGORIAN
BEGIN:VEVENT
UID:7158c99e-ae91-11f0-8fff-0a58a9feac02
DTSTAMP:20260424T160549Z
SUMMARY:6th Grade Intramurals
URL;VALUE=URI:https://www.dg58.org/hl/calendar/8738953/6th-grade-intramural
 s
DTSTART:20260312T200000Z
DTEND:20260312T204500Z
END:VEVENT
END:VCALENDAR
