BEGIN:VCALENDAR
VERSION:2.0
PRODID:SchoolNow
CALSCALE:GREGORIAN
BEGIN:VEVENT
UID:7158c8ae-ae91-11f0-a2a6-0a58a9feac02
DTSTAMP:20260424T160549Z
SUMMARY:5th Grade Intramurals
URL;VALUE=URI:https://www.dg58.org/hl/calendar/8738952/5th-grade-intramural
 s
DTSTART:20260305T210000Z
DTEND:20260305T214500Z
END:VEVENT
END:VCALENDAR
