BEGIN:VCALENDAR
VERSION:2.0
PRODID:SchoolNow
CALSCALE:GREGORIAN
BEGIN:VEVENT
UID:7158c552-ae91-11f0-bbe5-0a58a9feac02
DTSTAMP:20260424T160549Z
SUMMARY:6th Grade Intramurals
URL;VALUE=URI:https://www.dg58.org/hl/calendar/8738949/6th-grade-intramural
 s
DTSTART:20260205T210000Z
DTEND:20260205T214500Z
END:VEVENT
END:VCALENDAR
