BEGIN:VCALENDAR
VERSION:2.0
PRODID:SchoolNow
CALSCALE:GREGORIAN
BEGIN:VEVENT
UID:be542858-a61a-11f0-a618-0a58a9feac02
DTSTAMP:20260424T160549Z
SUMMARY:3rd Grade Field Trip
LOCATION:Museum of Science and Industry\, 5700 S DuSable Lake Shore Dr\, Ch
 icago\, IL 60637\, USA
URL;VALUE=URI:https://www.dg58.org/hl/calendar/8712384/3rd-grade-field-trip
DTSTART:20260225T143000Z
DTEND:20260225T203000Z
END:VEVENT
END:VCALENDAR
