BEGIN:VCALENDAR
VERSION:2.0
PRODID:SchoolNow
CALSCALE:GREGORIAN
BEGIN:VEVENT
UID:e0a30778-a3b6-11f0-9507-0239abda656f
DTSTAMP:20260424T160549Z
SUMMARY:Field Day
URL;VALUE=URI:https://www.dg58.org/hl/calendar/8703163/field-day
DTSTART;VALUE=DATE:20260602
DTEND;VALUE=DATE:20260603
END:VEVENT
END:VCALENDAR
