BEGIN:VCALENDAR
VERSION:2.0
PRODID:SchoolNow
CALSCALE:GREGORIAN
BEGIN:VEVENT
UID:e0a30688-a3b6-11f0-9193-0239abda656f
DTSTAMP:20260424T160549Z
SUMMARY:6th Grade Breakfast
URL;VALUE=URI:https://www.dg58.org/hl/calendar/8703162/6th-grade-breakfast
DTSTART:20260604T124500Z
DTEND:20260604T143000Z
END:VEVENT
END:VCALENDAR
