BEGIN:VCALENDAR
VERSION:2.0
PRODID:SchoolNow
CALSCALE:GREGORIAN
BEGIN:VEVENT
UID:e0a3055c-a3b6-11f0-9d86-0239abda656f
DTSTAMP:20260424T160549Z
SUMMARY:5th Grade Breakfast
URL;VALUE=URI:https://www.dg58.org/hl/calendar/8703161/5th-grade-breakfast
DTSTART:20260603T124500Z
DTEND:20260603T143000Z
END:VEVENT
END:VCALENDAR
