BEGIN:VCALENDAR
VERSION:2.0
PRODID:SchoolNow
CALSCALE:GREGORIAN
BEGIN:VEVENT
UID:e0a30458-a3b6-11f0-88f4-0239abda656f
DTSTAMP:20260424T160549Z
SUMMARY:Last Day of School for Students
URL;VALUE=URI:https://www.dg58.org/hl/calendar/8703160/last-day-of-school-f
 or-students
DTSTART:20260605T130000Z
DTEND:20260605T164500Z
END:VEVENT
END:VCALENDAR
