BEGIN:VCALENDAR
VERSION:2.0
PRODID:SchoolNow
CALSCALE:GREGORIAN
BEGIN:VEVENT
UID:e0a302be-a3b6-11f0-9aba-0239abda656f
DTSTAMP:20260424T160549Z
SUMMARY:Hound Dog Dash
URL;VALUE=URI:https://www.dg58.org/hl/calendar/8703159/hound-dog-dash
DTSTART:20260515T220000Z
DTEND:20260516T000000Z
END:VEVENT
END:VCALENDAR
