BEGIN:VCALENDAR
VERSION:2.0
PRODID:SchoolNow
CALSCALE:GREGORIAN
BEGIN:VEVENT
UID:e0a2ff76-a3b6-11f0-a15c-0239abda656f
DTSTAMP:20260424T160549Z
SUMMARY:PTA Meeting
URL;VALUE=URI:https://www.dg58.org/hl/calendar/8703158/pta-meeting
DTSTART:20260514T000000Z
DTEND:20260514T010000Z
END:VEVENT
END:VCALENDAR
