BEGIN:VCALENDAR
VERSION:2.0
PRODID:SchoolNow
CALSCALE:GREGORIAN
BEGIN:VEVENT
UID:e03f1d90-a383-11f0-923e-0a58a9feac02
DTSTAMP:20260424T160549Z
SUMMARY:HL Open House
URL;VALUE=URI:https://www.dg58.org/hl/calendar/8702074/hl-open-house
DTSTART:20260428T230000Z
DTEND:20260429T003000Z
END:VEVENT
END:VCALENDAR
