BEGIN:VCALENDAR
VERSION:2.0
PRODID:SchoolNow
CALSCALE:GREGORIAN
BEGIN:VEVENT
UID:e03f1cb4-a383-11f0-80a0-0a58a9feac02
DTSTAMP:20260424T100045Z
SUMMARY:Fun Lunch - Jimmy John's
URL;VALUE=URI:https://www.dg58.org/hl/calendar/8702073/fun-lunch-jimmy-john
 s
DTSTART;VALUE=DATE:20260424
DTEND;VALUE=DATE:20260425
END:VEVENT
END:VCALENDAR
