BEGIN:VCALENDAR
VERSION:2.0
PRODID:SchoolNow
CALSCALE:GREGORIAN
BEGIN:VEVENT
UID:e03f1a0c-a383-11f0-a5c9-0a58a9feac02
DTSTAMP:20260424T100045Z
SUMMARY:Fun Lunch - Connie's Pizza
URL;VALUE=URI:https://www.dg58.org/hl/calendar/8702070/fun-lunch-connies-pi
 zza
DTSTART;VALUE=DATE:20260407
DTEND;VALUE=DATE:20260408
END:VEVENT
END:VCALENDAR
