BEGIN:VCALENDAR
VERSION:2.0
PRODID:SchoolNow
CALSCALE:GREGORIAN
BEGIN:VEVENT
UID:e03f176e-a383-11f0-b6f9-0a58a9feac02
DTSTAMP:20260424T160549Z
SUMMARY:Fun Lunch - Sharko's
URL;VALUE=URI:https://www.dg58.org/hl/calendar/8702067/fun-lunch-sharkos
DTSTART;VALUE=DATE:20260310
DTEND;VALUE=DATE:20260311
END:VEVENT
END:VCALENDAR
