BEGIN:VCALENDAR
VERSION:2.0
PRODID:SchoolNow
CALSCALE:GREGORIAN
BEGIN:VEVENT
UID:e03f1674-a383-11f0-878d-0a58a9feac02
DTSTAMP:20260424T160549Z
SUMMARY:Institute Day - No School for Students
URL;VALUE=URI:https://www.dg58.org/hl/calendar/8702066/institute-day-no-sch
 ool-for-students
DTSTART;VALUE=DATE:20260227
DTEND;VALUE=DATE:20260228
END:VEVENT
END:VCALENDAR
