BEGIN:VCALENDAR
VERSION:2.0
PRODID:SchoolNow
CALSCALE:GREGORIAN
BEGIN:VEVENT
UID:e03f1552-a383-11f0-a237-0a58a9feac02
DTSTAMP:20260424T160549Z
SUMMARY:Fun Lunch
URL;VALUE=URI:https://www.dg58.org/hl/calendar/8702065/fun-lunch
DTSTART;VALUE=DATE:20260224
DTEND;VALUE=DATE:20260225
END:VEVENT
END:VCALENDAR
