BEGIN:VCALENDAR
VERSION:2.0
PRODID:SchoolNow
CALSCALE:GREGORIAN
BEGIN:VEVENT
UID:e03f1462-a383-11f0-a692-0a58a9feac02
DTSTAMP:20260424T160549Z
SUMMARY:PTA Meeting
URL;VALUE=URI:https://www.dg58.org/hl/calendar/8702064/pta-meeting
DTSTART:20260219T010000Z
DTEND:20260219T020000Z
END:VEVENT
END:VCALENDAR
