BEGIN:VCALENDAR
VERSION:2.0
PRODID:SchoolNow
CALSCALE:GREGORIAN
BEGIN:VEVENT
UID:e03f137c-a383-11f0-8c93-0a58a9feac02
DTSTAMP:20260424T160549Z
SUMMARY:Parent-Teacher Conferences
URL;VALUE=URI:https://www.dg58.org/hl/calendar/8702063/parent-teacher-confe
 rences
DTSTART:20260212T230000Z
DTEND:20260213T020000Z
END:VEVENT
END:VCALENDAR
