BEGIN:VCALENDAR
VERSION:2.0
PRODID:SchoolNow
CALSCALE:GREGORIAN
BEGIN:VEVENT
UID:e03f10b6-a383-11f0-8c74-0a58a9feac02
DTSTAMP:20260424T160549Z
SUMMARY:Martin Luther King's Birthday - No School
URL;VALUE=URI:https://www.dg58.org/hl/calendar/8702060/martin-luther-kings-
 birthday-no-school
DTSTART;VALUE=DATE:20260119
DTEND;VALUE=DATE:20260120
END:VEVENT
END:VCALENDAR
