BEGIN:VCALENDAR
VERSION:2.0
PRODID:SchoolNow
CALSCALE:GREGORIAN
BEGIN:VEVENT
UID:e03f0d1e-a383-11f0-8f3c-0a58a9feac02
DTSTAMP:20260424T160549Z
SUMMARY:Winter Break
URL;VALUE=URI:https://www.dg58.org/hl/calendar/8702057/winter-break
DTSTART;VALUE=DATE:20251229
DTEND;VALUE=DATE:20260103
END:VEVENT
END:VCALENDAR
