BEGIN:VCALENDAR
VERSION:2.0
PRODID:SchoolNow
CALSCALE:GREGORIAN
BEGIN:VEVENT
UID:e8112a84-a2ea-11f0-8d72-0a58a9feac02
DTSTAMP:20260424T160549Z
SUMMARY:No School - Memorial Day
URL;VALUE=URI:https://www.dg58.org/hl/calendar/8699955/no-school-memorial-d
 ay
DTSTART;VALUE=DATE:20260525
DTEND;VALUE=DATE:20260526
END:VEVENT
END:VCALENDAR
